BEGIN:VCALENDAR
VERSION:2.0
PRODID:-//Tukios.com/
BEGIN:VEVENT
UID:904a8a29-f946-42bb-9c4a-a792dafd1fb1@www.becherfuneralhome.com
DTSTAMP:20260421T082426Z
DTSTART:20260421T153000Z
DTEND:20260421T163000Z
SUMMARY:Funeral Service
DESCRIPTION:
URL:https://www.becherfuneralhome.com/obituaries/linda-jones
LOCATION:Becher Funeral Home 625 Main Street  Ferdinand IN 47532
GEO:38.2218755;-86.8629273
END:VEVENT
END:VCALENDAR