BEGIN:VCALENDAR
VERSION:2.0
PRODID:-//Tukios.com/
BEGIN:VEVENT
UID:c05fa5ac-85c2-4855-bbf5-a5e05eac905d@www.becherfuneralhome.com
DTSTAMP:20260421T082727Z
DTSTART:20260421T140000Z
DTEND:20260421T153000Z
SUMMARY:Visitation
DESCRIPTION:
URL:https://www.becherfuneralhome.com/obituaries/linda-jones
LOCATION:Becher Funeral Home 625 Main Street  Ferdinand IN 47532
GEO:38.2218755;-86.8629273
END:VEVENT
END:VCALENDAR