BEGIN:VCALENDAR
VERSION:2.0
PRODID:-//Tukios.com/
BEGIN:VEVENT
UID:e64807c1-9129-4f15-a710-db4cfc98c3d5@www.becherfuneralhome.com
DTSTAMP:20260421T205508Z
DTSTART:20260423T150000Z
DTEND:20260423T160000Z
SUMMARY:Funeral Service
DESCRIPTION:
URL:https://www.becherfuneralhome.com/obituaries/rowena-waninger
LOCATION:Saint Meinrad Church 625 Main Street  Ferdinand IN 47532
GEO:38.2218831;-86.862945
END:VEVENT
END:VCALENDAR