BEGIN:VCALENDAR
VERSION:2.0
PRODID:-//Tukios.com/
BEGIN:VEVENT
UID:edb2dbaa-6979-47c0-91c3-494bc28d7855@www.becherfuneralhome.com
DTSTAMP:20260421T205820Z
DTSTART:20260423T130000Z
DTEND:20260423T150000Z
SUMMARY:Visitation
DESCRIPTION:
URL:https://www.becherfuneralhome.com/obituaries/rowena-waninger
LOCATION:Saint Meinrad Church 625 Main Street  Ferdinand IN 47532
GEO:38.2218831;-86.862945
END:VEVENT
END:VCALENDAR