BEGIN:VCALENDAR
VERSION:2.0
PRODID:-//Tukios.com/
BEGIN:VEVENT
UID:0d156337-b4b0-4f8b-b7c4-d78ad6f662ee@www.becherfuneralhome.com
DTSTAMP:20260424T222113Z
DTSTART:20260428T120000Z
DTEND:20260428T133000Z
SUMMARY:Visitation
DESCRIPTION:
URL:https://www.becherfuneralhome.com/obituaries/silas-heichelbech
LOCATION: 625 Main St  Ferdinand IN 47532
GEO:38.2218831;-86.862945
END:VEVENT
END:VCALENDAR