BEGIN:VCALENDAR
VERSION:2.0
PRODID:-//Tukios.com/
BEGIN:VEVENT
UID:cd57e3a2-7a16-4db7-adc4-060f944d966c@www.becherfuneralhome.com
DTSTAMP:20260424T221909Z
DTSTART:20260428T140000Z
DTEND:20260428T150000Z
SUMMARY:Funeral Service
DESCRIPTION:
URL:https://www.becherfuneralhome.com/obituaries/silas-heichelbech
LOCATION: 341 E. 10th Street  Ferdinand IN 47532
GEO:38.2236487;-86.8598824
END:VEVENT
END:VCALENDAR